BEGIN:VCALENDAR
VERSION:2.0
PRODID:-//Mains Tenant - ECPv6.15.20//NONSGML v1.0//EN
CALSCALE:GREGORIAN
METHOD:PUBLISH
X-ORIGINAL-URL:https://ericchauvin.eu
X-WR-CALDESC:Évènements pour Mains Tenant
REFRESH-INTERVAL;VALUE=DURATION:PT1H
X-Robots-Tag:noindex
X-PUBLISHED-TTL:PT1H
BEGIN:VTIMEZONE
TZID:Europe/Paris
BEGIN:DAYLIGHT
TZOFFSETFROM:+0100
TZOFFSETTO:+0200
TZNAME:CEST
DTSTART:20240331T010000
END:DAYLIGHT
BEGIN:STANDARD
TZOFFSETFROM:+0200
TZOFFSETTO:+0100
TZNAME:CET
DTSTART:20241027T010000
END:STANDARD
BEGIN:DAYLIGHT
TZOFFSETFROM:+0100
TZOFFSETTO:+0200
TZNAME:CEST
DTSTART:20250330T010000
END:DAYLIGHT
BEGIN:STANDARD
TZOFFSETFROM:+0200
TZOFFSETTO:+0100
TZNAME:CET
DTSTART:20251026T010000
END:STANDARD
BEGIN:DAYLIGHT
TZOFFSETFROM:+0100
TZOFFSETTO:+0200
TZNAME:CEST
DTSTART:20260329T010000
END:DAYLIGHT
BEGIN:STANDARD
TZOFFSETFROM:+0200
TZOFFSETTO:+0100
TZNAME:CET
DTSTART:20261025T010000
END:STANDARD
END:VTIMEZONE
BEGIN:VEVENT
DTSTART;TZID=Europe/Paris:20250529T160000
DTEND;TZID=Europe/Paris:20250601T170000
DTSTAMP:20260421T135904
CREATED:20250317T093546Z
LAST-MODIFIED:20250317T095238Z
UID:1194-1748534400-1748797200@ericchauvin.eu
SUMMARY:Stage Stéphane Dupré - Toucher Découverte II
DESCRIPTION:J’ai la joie de me placer aux cotés de STEPHANE DUPRE\nPour faciliter son stage « TOUCHER DECOUVERTE niv. 2 »\nToutes les informations sur le site de Stéphane Dupré \nAttention : ces sessions sont réservées\, en priorité\, aux participants ayant effectué une session I\, aux stagiaires co-optés par d’anciens stagiaires venus au Mas ou aux stagiaires étant déjà engagés dans une démarche de développement personnel et/ou tantrique. Hors participation à une session I\, un contact téléphonique préalable (0466410549) est nécessaire !
URL:https://ericchauvin.eu/evenements/stage-stephane-dupre-toucher-decouverte-ii/
LOCATION:Stephane Dupre\, Vge de Souteyrannes\, Vialas\, 48220\, France
CATEGORIES:Animation,STAGE Tantra Hommes
ATTACH;FMTTYPE=image/jpeg:https://ericchauvin.eu/wp-content/uploads/2025/03/S.DUPRE_.img-stage_touchDecouv.jpg
END:VEVENT
END:VCALENDAR