BEGIN:VCALENDAR
VERSION:2.0
PRODID:-//Mains Tenant - ECPv6.15.20//NONSGML v1.0//EN
CALSCALE:GREGORIAN
METHOD:PUBLISH
X-WR-CALNAME:Mains Tenant
X-ORIGINAL-URL:https://ericchauvin.eu
X-WR-CALDESC:Évènements pour Mains Tenant
REFRESH-INTERVAL;VALUE=DURATION:PT1H
X-Robots-Tag:noindex
X-PUBLISHED-TTL:PT1H
BEGIN:VTIMEZONE
TZID:Europe/Paris
BEGIN:DAYLIGHT
TZOFFSETFROM:+0100
TZOFFSETTO:+0200
TZNAME:CEST
DTSTART:20220327T010000
END:DAYLIGHT
BEGIN:STANDARD
TZOFFSETFROM:+0200
TZOFFSETTO:+0100
TZNAME:CET
DTSTART:20221030T010000
END:STANDARD
BEGIN:DAYLIGHT
TZOFFSETFROM:+0100
TZOFFSETTO:+0200
TZNAME:CEST
DTSTART:20230326T010000
END:DAYLIGHT
BEGIN:STANDARD
TZOFFSETFROM:+0200
TZOFFSETTO:+0100
TZNAME:CET
DTSTART:20231029T010000
END:STANDARD
BEGIN:DAYLIGHT
TZOFFSETFROM:+0100
TZOFFSETTO:+0200
TZNAME:CEST
DTSTART:20240331T010000
END:DAYLIGHT
BEGIN:STANDARD
TZOFFSETFROM:+0200
TZOFFSETTO:+0100
TZNAME:CET
DTSTART:20241027T010000
END:STANDARD
END:VTIMEZONE
BEGIN:VEVENT
DTSTART;TZID=Europe/Paris:20231101T210000
DTEND;TZID=Europe/Paris:20231101T230000
DTSTAMP:20260422T123831
CREATED:20230612T074014Z
LAST-MODIFIED:20231219T132344Z
UID:481-1698872400-1698879600@ericchauvin.eu
SUMMARY:Cercle d'hommes en ligne
DESCRIPTION:Cercle de parole pour Hommes \n\n\nLes cercles de paroles et plus spécifiquement les cercles de parole pour hommes m’ont permis de m’ouvrir à des parts de moi même que je ne percevais pas au premier abord.\nAussi ai je eu à cœur de proposer depuis quelques années à des hommes de se rencontrer\, se retrouver dans la parole autours de thèmes à chaque rencontre différents\n\nLe cycle mensuel a repris en septembre\, 3 hommes font partis du voyage\, des dates restent ouvertes sur ce groupe.\n\nRendez vous le 1er mercredi de chaque mois (ou presque) de 20h à 22h via Zoom\nparticipation libre à partir de 10€\nlien de règlement pour recevoir la salle Zoom:\nhttps://buy.stripe.com/28oaFoezBaWq8xydQU\n\nAu plaisir de te rencontrer\, de te retrouver\nEric de Mains Tenant
URL:https://ericchauvin.eu/evenements/cercle-dhommes-en-ligne-ouvert/
LOCATION:En ligne (Zoom)
CATEGORIES:Hommes
ATTACH;FMTTYPE=image/png:https://ericchauvin.eu/wp-content/uploads/2023/06/Cercle-hommes-sans-dates.png
ORGANIZER;CN="Eric Chauvin":MAILTO:info@ericchauvin.eu
END:VEVENT
BEGIN:VEVENT
DTSTART;TZID=Europe/Paris:20231101T210000
DTEND;TZID=Europe/Paris:20231101T230000
DTSTAMP:20260422T123831
CREATED:20230612T074014Z
LAST-MODIFIED:20231219T132344Z
UID:481-1698872400-1698879600@ericchauvin.eu
SUMMARY:Cercle d'hommes en ligne
DESCRIPTION:Cercle de parole pour Hommes \n\n\nLes cercles de paroles et plus spécifiquement les cercles de parole pour hommes m’ont permis de m’ouvrir à des parts de moi même que je ne percevais pas au premier abord.\nAussi ai je eu à cœur de proposer depuis quelques années à des hommes de se rencontrer\, se retrouver dans la parole autours de thèmes à chaque rencontre différents\n\nLe cycle mensuel a repris en septembre\, 3 hommes font partis du voyage\, des dates restent ouvertes sur ce groupe.\n\nRendez vous le 1er mercredi de chaque mois (ou presque) de 20h à 22h via Zoom\nparticipation libre à partir de 10€\nlien de règlement pour recevoir la salle Zoom:\nhttps://buy.stripe.com/28oaFoezBaWq8xydQU\n\nAu plaisir de te rencontrer\, de te retrouver\nEric de Mains Tenant
URL:https://ericchauvin.eu/evenements/cercle-dhommes-en-ligne-ouvert/
LOCATION:En ligne (Zoom)
CATEGORIES:Hommes
ATTACH;FMTTYPE=image/png:https://ericchauvin.eu/wp-content/uploads/2023/06/Cercle-hommes-sans-dates.png
ORGANIZER;CN="Eric Chauvin":MAILTO:info@ericchauvin.eu
END:VEVENT
BEGIN:VEVENT
DTSTART;TZID=Europe/Paris:20231101T210000
DTEND;TZID=Europe/Paris:20231101T230000
DTSTAMP:20260422T123831
CREATED:20230612T074014Z
LAST-MODIFIED:20231219T132344Z
UID:481-1698872400-1698879600@ericchauvin.eu
SUMMARY:Cercle d'hommes en ligne
DESCRIPTION:Cercle de parole pour Hommes \n\n\nLes cercles de paroles et plus spécifiquement les cercles de parole pour hommes m’ont permis de m’ouvrir à des parts de moi même que je ne percevais pas au premier abord.\nAussi ai je eu à cœur de proposer depuis quelques années à des hommes de se rencontrer\, se retrouver dans la parole autours de thèmes à chaque rencontre différents\n\nLe cycle mensuel a repris en septembre\, 3 hommes font partis du voyage\, des dates restent ouvertes sur ce groupe.\n\nRendez vous le 1er mercredi de chaque mois (ou presque) de 20h à 22h via Zoom\nparticipation libre à partir de 10€\nlien de règlement pour recevoir la salle Zoom:\nhttps://buy.stripe.com/28oaFoezBaWq8xydQU\n\nAu plaisir de te rencontrer\, de te retrouver\nEric de Mains Tenant
URL:https://ericchauvin.eu/evenements/cercle-dhommes-en-ligne-ouvert/
LOCATION:En ligne (Zoom)
CATEGORIES:Hommes
ATTACH;FMTTYPE=image/png:https://ericchauvin.eu/wp-content/uploads/2023/06/Cercle-hommes-sans-dates.png
ORGANIZER;CN="Eric Chauvin":MAILTO:info@ericchauvin.eu
END:VEVENT
BEGIN:VEVENT
DTSTART;TZID=Europe/Paris:20231101T210000
DTEND;TZID=Europe/Paris:20231101T230000
DTSTAMP:20260422T123831
CREATED:20230612T074014Z
LAST-MODIFIED:20231219T132344Z
UID:481-1698872400-1698879600@ericchauvin.eu
SUMMARY:Cercle d'hommes en ligne
DESCRIPTION:Cercle de parole pour Hommes \n\n\nLes cercles de paroles et plus spécifiquement les cercles de parole pour hommes m’ont permis de m’ouvrir à des parts de moi même que je ne percevais pas au premier abord.\nAussi ai je eu à cœur de proposer depuis quelques années à des hommes de se rencontrer\, se retrouver dans la parole autours de thèmes à chaque rencontre différents\n\nLe cycle mensuel a repris en septembre\, 3 hommes font partis du voyage\, des dates restent ouvertes sur ce groupe.\n\nRendez vous le 1er mercredi de chaque mois (ou presque) de 20h à 22h via Zoom\nparticipation libre à partir de 10€\nlien de règlement pour recevoir la salle Zoom:\nhttps://buy.stripe.com/28oaFoezBaWq8xydQU\n\nAu plaisir de te rencontrer\, de te retrouver\nEric de Mains Tenant
URL:https://ericchauvin.eu/evenements/cercle-dhommes-en-ligne-ouvert/
LOCATION:En ligne (Zoom)
CATEGORIES:Hommes
ATTACH;FMTTYPE=image/png:https://ericchauvin.eu/wp-content/uploads/2023/06/Cercle-hommes-sans-dates.png
ORGANIZER;CN="Eric Chauvin":MAILTO:info@ericchauvin.eu
END:VEVENT
END:VCALENDAR