BEGIN:VCALENDAR
VERSION:2.0
PRODID:-//Mains Tenant - ECPv6.15.20//NONSGML v1.0//EN
CALSCALE:GREGORIAN
METHOD:PUBLISH
X-ORIGINAL-URL:https://ericchauvin.eu
X-WR-CALDESC:Évènements pour Mains Tenant
REFRESH-INTERVAL;VALUE=DURATION:PT1H
X-Robots-Tag:noindex
X-PUBLISHED-TTL:PT1H
BEGIN:VTIMEZONE
TZID:Europe/Paris
BEGIN:DAYLIGHT
TZOFFSETFROM:+0100
TZOFFSETTO:+0200
TZNAME:CEST
DTSTART:20230326T010000
END:DAYLIGHT
BEGIN:STANDARD
TZOFFSETFROM:+0200
TZOFFSETTO:+0100
TZNAME:CET
DTSTART:20231029T010000
END:STANDARD
BEGIN:DAYLIGHT
TZOFFSETFROM:+0100
TZOFFSETTO:+0200
TZNAME:CEST
DTSTART:20240331T010000
END:DAYLIGHT
BEGIN:STANDARD
TZOFFSETFROM:+0200
TZOFFSETTO:+0100
TZNAME:CET
DTSTART:20241027T010000
END:STANDARD
BEGIN:DAYLIGHT
TZOFFSETFROM:+0100
TZOFFSETTO:+0200
TZNAME:CEST
DTSTART:20250330T010000
END:DAYLIGHT
BEGIN:STANDARD
TZOFFSETFROM:+0200
TZOFFSETTO:+0100
TZNAME:CET
DTSTART:20251026T010000
END:STANDARD
END:VTIMEZONE
BEGIN:VEVENT
DTSTART;TZID=Europe/Paris:20241128T113000
DTEND;TZID=Europe/Paris:20241201T173000
DTSTAMP:20260420T134817
CREATED:20231214T151519Z
LAST-MODIFIED:20240429T191628Z
UID:699-1732793400-1733074200@ericchauvin.eu
SUMMARY:Stage Tantra Hommes 2
DESCRIPTION:Stage en co-animation par Jacques Lucas et Mario-Jacques Castonguay.  \nQue je sois physiquement où non aux cotés des animateurs n’est pas garanti\, pour autant j’y suis par le cœur. \nLieu : Le Hameau de l’ÉtoileIl est nécessaire d’avoir participé au 1er module (Tantra Hommes 1) pour participer au second. \nTous les détails sur les stages Tantra Hommes
URL:https://ericchauvin.eu/evenements/stage-tantra-hommes-2-3/
LOCATION:Le Hameau de L’Etoile\, Route de Frouzet\, SAINT-MARTIN-DE-LONDRES\, 34380
CATEGORIES:Assistant,STAGE Tantra Hommes
ATTACH;FMTTYPE=image/jpeg:https://ericchauvin.eu/wp-content/uploads/2023/12/astral-projection.jpg
ORGANIZER;CN="Jaques Lucas":MAILTO:jacques@jacques-lucas.fr
END:VEVENT
END:VCALENDAR